BEGIN:VCALENDAR
VERSION:2.0
PRODID:-//Gminna Biblioteka Publiczna i Centrum Kultury w Dopiewie - ECPv6.15.20//NONSGML v1.0//EN
CALSCALE:GREGORIAN
METHOD:PUBLISH
X-WR-CALNAME:Gminna Biblioteka Publiczna i Centrum Kultury w Dopiewie
X-ORIGINAL-URL:https://www.bibldop.pl
X-WR-CALDESC:Wydarzenia dla Gminna Biblioteka Publiczna i Centrum Kultury w Dopiewie
REFRESH-INTERVAL;VALUE=DURATION:PT1H
X-Robots-Tag:noindex
X-PUBLISHED-TTL:PT1H
BEGIN:VTIMEZONE
TZID:Europe/Warsaw
BEGIN:DAYLIGHT
TZOFFSETFROM:+0100
TZOFFSETTO:+0200
TZNAME:CEST
DTSTART:20230326T010000
END:DAYLIGHT
BEGIN:STANDARD
TZOFFSETFROM:+0200
TZOFFSETTO:+0100
TZNAME:CET
DTSTART:20231029T010000
END:STANDARD
BEGIN:DAYLIGHT
TZOFFSETFROM:+0100
TZOFFSETTO:+0200
TZNAME:CEST
DTSTART:20240331T010000
END:DAYLIGHT
BEGIN:STANDARD
TZOFFSETFROM:+0200
TZOFFSETTO:+0100
TZNAME:CET
DTSTART:20241027T010000
END:STANDARD
BEGIN:DAYLIGHT
TZOFFSETFROM:+0100
TZOFFSETTO:+0200
TZNAME:CEST
DTSTART:20250330T010000
END:DAYLIGHT
BEGIN:STANDARD
TZOFFSETFROM:+0200
TZOFFSETTO:+0100
TZNAME:CET
DTSTART:20251026T010000
END:STANDARD
END:VTIMEZONE
BEGIN:VEVENT
DTSTART;TZID=Europe/Warsaw:20240628T170000
DTEND;TZID=Europe/Warsaw:20240628T190000
DTSTAMP:20260426T052253
CREATED:20240614T090548Z
LAST-MODIFIED:20240614T090548Z
UID:14217-1719594000-1719601200@www.bibldop.pl
SUMMARY:Gala Zajęć Edu-Art
DESCRIPTION:Koncertem galowym uczestników zajęć EDU-ART podsumujemy i zakończymy sezon 2023/24. Zapraszamy chętnych do sali widowiskowej w Konarzewie 28.06. o godz. 17.00.
URL:https://www.bibldop.pl/wydarzenie/gala-zajec-edu-art/
LOCATION:Sala widowiskowa w Konarzewie\, Poznańska 19\, Konarzewo\, Poland
CATEGORIES:CRK w Konarzewie
ATTACH;FMTTYPE=image/jpeg:https://www.bibldop.pl/wp-content/uploads/2024/06/gala-uczestnikow-EDU-ART.jpg
END:VEVENT
END:VCALENDAR