BEGIN:VCALENDAR
VERSION:2.0
PRODID:-//Gminna Biblioteka Publiczna i Centrum Kultury w Dopiewie - ECPv6.15.20//NONSGML v1.0//EN
CALSCALE:GREGORIAN
METHOD:PUBLISH
X-ORIGINAL-URL:https://www.bibldop.pl
X-WR-CALDESC:Wydarzenia dla Gminna Biblioteka Publiczna i Centrum Kultury w Dopiewie
REFRESH-INTERVAL;VALUE=DURATION:PT1H
X-Robots-Tag:noindex
X-PUBLISHED-TTL:PT1H
BEGIN:VTIMEZONE
TZID:Europe/Warsaw
BEGIN:DAYLIGHT
TZOFFSETFROM:+0100
TZOFFSETTO:+0200
TZNAME:CEST
DTSTART:20230326T010000
END:DAYLIGHT
BEGIN:STANDARD
TZOFFSETFROM:+0200
TZOFFSETTO:+0100
TZNAME:CET
DTSTART:20231029T010000
END:STANDARD
BEGIN:DAYLIGHT
TZOFFSETFROM:+0100
TZOFFSETTO:+0200
TZNAME:CEST
DTSTART:20240331T010000
END:DAYLIGHT
BEGIN:STANDARD
TZOFFSETFROM:+0200
TZOFFSETTO:+0100
TZNAME:CET
DTSTART:20241027T010000
END:STANDARD
BEGIN:DAYLIGHT
TZOFFSETFROM:+0100
TZOFFSETTO:+0200
TZNAME:CEST
DTSTART:20250330T010000
END:DAYLIGHT
BEGIN:STANDARD
TZOFFSETFROM:+0200
TZOFFSETTO:+0100
TZNAME:CET
DTSTART:20251026T010000
END:STANDARD
END:VTIMEZONE
BEGIN:VEVENT
DTSTART;TZID=Europe/Warsaw:20240601T150000
DTEND;TZID=Europe/Warsaw:20240601T150000
DTSTAMP:20260426T052319
CREATED:20240517T110804Z
LAST-MODIFIED:20240517T110804Z
UID:14098-1717254000-1717254000@www.bibldop.pl
SUMMARY:Dni Gminy Dopiewo
DESCRIPTION:Każdy z nas jest dzieckiem\, które lubi zabawę. Za miesiąc na placu gminnym w Dopiewie będzie można się bawić do woli. Odbędzie się wtedy największe plenerowe wydarzenie w gminie Dopiewo. Gwiazdą wydarzenia\, które zaplanowano na sobotę\, 1 czerwca\, będzie zespół KOMBII (z Grzegorzem Skawińskim i Waldemarem Tkaczykiem)\, przed którym wystąpi grupa ExMAANAM (stworzona przez dwóch współzałożycieli MAANAMU – Pawła Markowskiego i Ryszarda Olesińskiego\, w którym śpiewa Karolina Leszko ze „Złotego Maanamu\,” wybrana do jego składu jeszcze przez Marka Jackowskiego). Oba koncerty przypomną po kilkanaście niezapomnianych hitów polskiej muzyki rozrywkowej. Z pewnością nie zabraknie „Słodkiego\, miłego życia” i „Kocham Cię kochanie moje”\, „Nasze randez-vous” i „Boskie Buenos”\, „Black and White” i „O! Nie rób tyle hałasu”. Będzie głośno i przebojowo. Przed koncertami na scenie będą prezentować się lokalni artyści – nie zabraknie Orkiestry Dętej Gminy Dopiewo\, Mażoretek Gminy Dopiewo i tancerzy Klubu Sportowo-Tanecznego „Activus”. Wcześniej pojawią się atrakcje i animacje dla dzieci. Po koncertach na zabawę zaprosi żeńskie trio The Move\, które na przemian z DJ’em będzie serwować najwspanialszą na świecie muzykę do tańca. \nDzień później 2 czerwca w tym samym miejscu odbędzie się festyn z okazji Dnia Dziecka. Zapraszamy. \n 
URL:https://www.bibldop.pl/wydarzenie/dni-gminy-dopiewo/
LOCATION:Plac Gminny w Dopiewie\, ul. Łąkowa/Wyzwolenia\, Dopiewo\, Poland
CATEGORIES:Pozostałe
ATTACH;FMTTYPE=image/webp:https://www.bibldop.pl/wp-content/uploads/2024/05/Dni-Gminy.webp
END:VEVENT
END:VCALENDAR